BEGIN:VCALENDAR
VERSION:2.0
PRODID:-//wp-events-plugin.com//7.2.3.1//EN
TZID:Europe/Berlin
X-WR-TIMEZONE:Europe/Berlin
BEGIN:VEVENT
UID:299@jugendkunstschule-wangen.de
DTSTART;TZID=Europe/Berlin:20260410T090000
DTEND;TZID=Europe/Berlin:20260411T120000
DTSTAMP:20260129T204033Z
URL:https://www.jugendkunstschule-wangen.de/veranstaltungen/osterferien-na
 ehwerkstatt-fuer-anfaenger-ab-8-jahre/
SUMMARY:Osterferien - Nähwerkstatt für Anfänger - ab 8 Jahre
DESCRIPTION:Nähwerkstatt für Anfänger\n\nAlter: ab 8 Jahre\n\nUhrzeit: 9
  bis 12 Uhr\n\nDozentin: Siegrid Reinelt\n\nOrt: Begegnungsraum Bindstraß
 e 37\n\nKleingruppe bis maximal 6 Kinder!\n\nWer schon immer mal probieren
  wollte mit der Nähmaschine zu nähen - hier kannst du es lernen!\n\nDu l
 ernst den Umgang mit der Nähmaschine - die ersten wichtigen Schritte. Nac
 h der Einführung und Erprobung  kannst du dein eigenes Tierkissen nähen
 .\n\nIn unserer Nähstube stehen ausreichen Nähmaschinen bereit - du kann
 st gern auch deine eigene Maschine mitbringen.\n\nFür die Pause Trinken u
 nd ein kleines Vesper nicht vergessen.\n\nDer Teilnehmerbetrag ist vor Beg
 inn der Veranstaltung auf das Konto der Jugendkunstschule zu überweisen. 
 Nach Eingang der Buchung versenden wir eine Mail mit allen Zahlungsmodalit
 äten.
ATTACH;FMTTYPE=image/jpeg:https://www.jugendkunstschule-wangen.de/wp-conte
 nt/uploads/2021/11/Upcycling_Naehwerkstatt_Ostern2.jpg
LOCATION:Begegnungsraum Bindstraße 37\, Bindstrasse 37\, Wangenim Allgäu\
 , 88239\, Deutschland
X-APPLE-STRUCTURED-LOCATION;VALUE=URI;X-ADDRESS=Bindstrasse 37\, Wangenim A
 llgäu\, 88239\, Deutschland;X-APPLE-RADIUS=100;X-TITLE=Begegnungsraum Bin
 dstraße 37:geo:0,0
END:VEVENT
BEGIN:VTIMEZONE
TZID:Europe/Berlin
X-LIC-LOCATION:Europe/Berlin
BEGIN:DAYLIGHT
DTSTART:20260329T030000
TZOFFSETFROM:+0100
TZOFFSETTO:+0200
TZNAME:CEST
END:DAYLIGHT
END:VTIMEZONE
END:VCALENDAR